BEGIN:VCALENDAR
VERSION:2.0
PRODID:-//ChamberMaster//Event Calendar 2.0//EN
METHOD:PUBLISH
X-PUBLISHED-TTL:P3D
REFRESH-INTERVAL:P3D
CALSCALE:GREGORIAN
BEGIN:VEVENT
DTSTART:20260320T220000Z
DTEND:20260321T020000Z
X-MICROSOFT-CDO-ALLDAYEVENT:FALSE
SUMMARY:Relay for Life
DESCRIPTION:Join us on Friday\, March 20th\, 2026\, from 6PM 10PM for Shenandoah University's annual Relay For Life   a night filled with hope\, remembrance\, and community spirit. Together\, we celebrate cancer survivors\, honor loved ones\, and raise funds for the American Cancer Society's fight against cancer. Enjoy games\, performances\, themed laps\, and activities hosted by local clubs\, teams\, and organizations. Our goal this year is to double last year's fundraising total and bring our community closer than ever. If you are a business looking to sponsor the event or form a fundraising team\, please contact: shenandoahrfl@gmail.com
X-ALT-DESC;FMTTYPE=text/html:Join us on Friday\, March 20th\, 2026\, from 6PM&ndash\;10PM for Shenandoah University&rsquo\;s annual Relay For Life &mdash\; a night filled with hope\, remembrance\, and community spirit. Together\, we celebrate cancer survivors\, honor loved ones\, and raise funds for the American Cancer Society&rsquo\;s fight against cancer. Enjoy games\, performances\, themed laps\, and activities hosted by local clubs\, teams\, and organizations. Our goal this year is to double last year&rsquo\;s fundraising total and bring our community closer than ever. If you are a business looking to sponsor the event or form a fundraising team\, please contact: shenandoahrfl@gmail.com
LOCATION:1188 Ralph Shockey Dr\, Winchester\, VA 22602 (James R. Wilkins Jr. Athletics and Events Center)
UID:e.2531.27748
SEQUENCE:3
DTSTAMP:20260426T040340Z
URL:https://business.regionalchamber.biz/events/details/relay-for-life-27748
END:VEVENT

END:VCALENDAR
