BEGIN:VCALENDAR
VERSION:2.0
PRODID:-//ChamberMaster//Event Calendar 2.0//EN
METHOD:PUBLISH
X-PUBLISHED-TTL:P3D
REFRESH-INTERVAL:P3D
CALSCALE:GREGORIAN
BEGIN:VEVENT
DTSTART:20260417T120000Z
DTEND:20260417T210000Z
X-MICROSOFT-CDO-ALLDAYEVENT:FALSE
SUMMARY:Shenandoah Community Health Golf Fundraiser
DESCRIPTION:We are hosting a charity fundraiser to provide financial assistance to our patients who are currently suffering severe financial hardships.  Proceeds from this fundraiser will be used to defray the cost of healthcare needs for our low-income patients\, such as medications\, lab fees\, specialist referrals\, dental procedures\, eyeglasses.  Your involvement will make a tangible difference in the lives of those who rely on SCH for essential care.\n\n\n\nWe invite you to join our golf tournament on April 17\, 2026 at Blue Ridge Shadows Resort in Front Royal\, VA. It promises to be a day of fun\, networking\, and community spirit for a vital cause. In addition to playing in our event\, we offer many sponsorship opportunities that provide excellent visibility for your organization while supporting our mission. If you can't participate personally on the day of the tournament\, you can still take advantage of these sponsorships\, or you may also make a donation. bit.ly/SCH50GolfCharity\n\n\n\nYour generosity directly translates into crucial support for our patients in need.
X-ALT-DESC;FMTTYPE=text/html:<em>We are hosting a charity fundraiser to provide financial assistance to our patients who are currently suffering severe financial hardships.</em>&nbsp\; Proceeds from this fundraiser will be used to defray the cost of healthcare needs for our low-income patients\, such as medications\, lab fees\, specialist referrals\, dental procedures\, eyeglasses.&nbsp\; Your involvement will make a tangible difference in the lives of those who rely on SCH for essential care.<br />\n<br />\nWe invite you to join our golf tournament on April 17\, 2026 at Blue Ridge Shadows Resort in Front Royal\, VA. It promises to be a day of fun\, networking\, and community spirit for a vital cause. In addition to playing in our event\, we offer many sponsorship opportunities that provide excellent visibility for your organization while supporting our mission. If you can&rsquo\;t participate personally on the day of the tournament\, you can still take advantage of these sponsorships\, or you may also make a donation.&nbsp\;bit.ly/SCH50GolfCharity<br />\n<br />\nYour generosity directly translates into crucial support for our patients in need.&nbsp\;&nbsp\;
LOCATION:Blue Ridge Shadows Golf Club 456 Shadows Dr\, Front Royal\, VA 22630
UID:e.2531.28172
SEQUENCE:3
DTSTAMP:20260426T021904Z
URL:https://business.regionalchamber.biz/events/details/shenandoah-community-health-golf-fundraiser-28172
END:VEVENT

END:VCALENDAR
