BEGIN:VCALENDAR
VERSION:2.0
PRODID:-//ChamberMaster//Event Calendar 2.0//EN
METHOD:PUBLISH
X-PUBLISHED-TTL:P3D
REFRESH-INTERVAL:P3D
CALSCALE:GREGORIAN
BEGIN:VEVENT
DTSTART:20260319T170000Z
DTEND:20260319T200000Z
X-MICROSOFT-CDO-ALLDAYEVENT:FALSE
SUMMARY:Small Gathering\, Big Impact Career & Resource Fair
DESCRIPTION:Virginia Works will be hosting a job/resource fair at Bowman Library.\n\nEvent Details:\n\nDate: Thursday March 19\, 2026\n\nLocation: Bowman Library 871 Tasker Rd Stephens City VA 22655\n\nTime: 1:00pm to 4:00pm\n\n\n\nVirginia Works invites you to participate in our Small Gathering\, Career & Resource Fair   an excellent opportunity to connect with employment opportunities and services.
X-ALT-DESC;FMTTYPE=text/html:Virginia Works will be hosting a job/resource fair at Bowman Library.<br />\n<strong>Event Details:</strong><br />\n<strong>Date:</strong> Thursday March 19\, 2026<br />\n<strong>Location:</strong> Bowman Library 871 Tasker Rd Stephens City VA 22655<br />\n<strong>Time:</strong> 1:00pm to 4:00pm<br />\n<br />\nVirginia Works invites you to participate in our <strong>Small Gathering\, Career &amp\; Resource Fair</strong> &mdash\; an excellent opportunity to connect with employment opportunities and services.<br />\n<br />\n&nbsp\;
LOCATION:Bowman Library 871 Tasker Rd Stephens City VA 22655
UID:e.2531.28510
SEQUENCE:3
DTSTAMP:20260426T040409Z
URL:https://business.regionalchamber.biz/events/details/small-gathering-big-impact-career-resource-fair-03-19-2026-28510
END:VEVENT

END:VCALENDAR
