BEGIN:VCALENDAR
VERSION:2.0
PRODID:-//ChamberMaster//Event Calendar 2.0//EN
METHOD:PUBLISH
X-PUBLISHED-TTL:P3D
REFRESH-INTERVAL:P3D
CALSCALE:GREGORIAN
BEGIN:VEVENT
DTSTART:20260521T170000Z
DTEND:20260521T200000Z
X-MICROSOFT-CDO-ALLDAYEVENT:FALSE
SUMMARY:Small Gathering\, Big Impact! Career & Resource Fair at Bowman Library
DESCRIPTION:Small Gathering\, Big Impact!\n\nCareer & Resource Fair at Bowman Library\n\n\n\nVirginia Works invites you to participate in our Small Gathering event which includes Employers and Local Resources   an excellent opportunity to connect in a small intimate setting.\n\n\n\nEvent Details:\n\n?? Date: Thursday May 21\, 2026\n\n?? Location: Bowman Library 871 Tasker Rd Stephens City VA 22655\n\n? Time:  1:00pm to 4:00pm
X-ALT-DESC;FMTTYPE=text/html:<strong>Small Gathering\, Big Impact!</strong><br />\n<strong>Career &amp\; Resource Fair at Bowman Library</strong><br />\n<br />\n<strong>Virginia Works</strong> invites you to participate in our <strong>Small Gathering event which includes Employers and Local Resources</strong> &mdash\; an excellent opportunity to connect in a small intimate setting.<br />\n<br />\n<strong>Event Details:</strong><br />\n<span style="font-family:segoe ui emoji\,sans-serif">??</span> <strong>Date:</strong> Thursday May 21\, 2026<br />\n<span style="font-family:segoe ui emoji\,sans-serif">??</span> <strong>Location:</strong> Bowman Library 871 Tasker Rd Stephens City VA 22655<br />\n<span style="font-family:segoe ui emoji\,sans-serif">?</span> <strong>Time:</strong> &nbsp\;1:00pm to 4:00pm
LOCATION:Bowman Library 871 Tasker Rd Stephens City VA 22655
UID:e.2531.28590
SEQUENCE:3
DTSTAMP:20260423T100628Z
URL:https://business.regionalchamber.biz/events/details/small-gathering-big-impact-career-resource-fair-at-bowman-library-28590
END:VEVENT

END:VCALENDAR
