BEGIN:VCALENDAR
VERSION:2.0
PRODID:-//ChamberMaster//Event Calendar 2.0//EN
METHOD:PUBLISH
X-PUBLISHED-TTL:P3D
REFRESH-INTERVAL:P3D
CALSCALE:GREGORIAN
BEGIN:VEVENT
DTSTART:20240419T213000Z
DTEND:20240419T230000Z
X-MICROSOFT-CDO-ALLDAYEVENT:FALSE
SUMMARY:SU Children's Authors Reception: John Schu & Applegate
DESCRIPTION:Join us in celebrating two great children's authors Katherine Applegate and John Schu! They'll be here at the shop for a wine reception\, don't forget to stop by for signed books and refreshments!
X-ALT-DESC;FMTTYPE=text/html:<div>\n<div>\n<div>\n<p>Join us in celebrating two great children&#39\;s authors Katherine Applegate and John Schu! They&#39\;ll be here at the shop for a wine reception\, don&#39\;t forget to stop by for signed books and refreshments!</p>\n</div>\n</div>\n</div>\n
LOCATION:The Winchester Book Gallery
UID:e.2531.21430
SEQUENCE:3
DTSTAMP:20260425T164834Z
URL:https://business.regionalchamber.biz/events/details/su-children-s-authors-reception-john-schu-applegate-21430
END:VEVENT

END:VCALENDAR
