BEGIN:VCALENDAR
VERSION:2.0
PRODID:-//ChamberMaster//Event Calendar 2.0//EN
METHOD:PUBLISH
X-PUBLISHED-TTL:P3D
REFRESH-INTERVAL:P3D
CALSCALE:GREGORIAN
BEGIN:VEVENT
DTSTART:20260604T223000Z
DTEND:20260605T003000Z
X-MICROSOFT-CDO-ALLDAYEVENT:FALSE
SUMMARY:Sunset Series featuring Los Traficantes del Amor
DESCRIPTION:Sunset Series\n\nPresented by Blue Ridge Agents Insurance\n\n\nSpend your summer evenings enjoying live music under the open sky at the Amphitheater at Bowman Library. The Sunset Series features a diverse lineup of talented performers\, creating the perfect setting for relaxing nights with family and friends.\n\nBring a blanket or lawn chair and enjoy a laid-back summer atmosphere. Food and treats will be available for purchase.\n\n\nKids Nights:\n\nJune 4\, July 9\, August 6\n\n\n2026 Lineup:\n\nJune 4   Los Traficantes del Amor\n\nJune 11   Kimmon Waldruff\n\nJune 18   Allen Boyd & the Waysiders\n\nJune 25   The Fly Birds\n\nJuly 9   Cow Paddies\n\nJuly 16   Meisha Herron Duo\n\nJuly 23   Karma Creak\n\nJuly 30   Low Water Bridge Band Trio\n\nAugust 6   Robbie Limon
X-ALT-DESC;FMTTYPE=text/html:<p><span style="font-size:16px"><strong>Sunset Series</strong><br />\nPresented by Blue Ridge Agents Insurance</span></p>\n\n<hr />\n<p><span style="font-size:16px">Spend your summer evenings enjoying live music under the open sky at the Amphitheater at Bowman Library. The Sunset Series features a diverse lineup of talented performers\, creating the perfect setting for relaxing nights with family and friends.</span></p>\n\n<p><span style="font-size:16px">Bring a blanket or lawn chair and enjoy a laid-back summer atmosphere. Food and treats will be available for purchase.</span></p>\n\n<hr />\n<p><span style="font-size:16px"><strong>Kids Nights:</strong><br />\nJune 4\, July 9\, August 6</span></p>\n\n<hr />\n<p><span style="font-size:16px"><strong>2026 Lineup:</strong><br />\nJune 4 &ndash\; Los Traficantes del Amor<br />\nJune 11 &ndash\; Kimmon Waldruff<br />\nJune 18 &ndash\; Allen Boyd &amp\; the Waysiders<br />\nJune 25 &ndash\; The Fly Birds<br />\nJuly 9 &ndash\; Cow Paddies<br />\nJuly 16 &ndash\; Meisha Herron Duo<br />\nJuly 23 &ndash\; Karma Creak<br />\nJuly 30 &ndash\; Low Water Bridge Band Trio<br />\nAugust 6 &ndash\; Robbie Limon</span></p>\n
LOCATION:Amphitheater at Bowman Library
UID:e.2531.28592
SEQUENCE:3
DTSTAMP:20260422T152544Z
URL:https://business.regionalchamber.biz/events/details/sunset-series-featuring-los-traficantes-del-amor-28592
END:VEVENT

END:VCALENDAR
