BEGIN:VCALENDAR
VERSION:2.0
PRODID:-//ChamberMaster//Event Calendar 2.0//EN
METHOD:PUBLISH
X-PUBLISHED-TTL:P3D
REFRESH-INTERVAL:P3D
CALSCALE:GREGORIAN
BEGIN:VEVENT
DTSTART:20260509T170000Z
DTEND:20260509T183000Z
X-MICROSOFT-CDO-ALLDAYEVENT:FALSE
SUMMARY:Tai Chi and Tips for Brain Health
DESCRIPTION:This workshop focuses on tips for improving overall brain health and discusses things that can impact our clarity of thinking. We will learn a short series of tai chi movements to help challenge our brain and build memory and discuss acupressure points to stimulate brain activity.\n\nDonations encouraged but not required. MoveMentation is a nonprofit organization that values your presence and participation as an equal energy exchange.
X-ALT-DESC;FMTTYPE=text/html:<p><span style="color:initial">This workshop focuses on tips for improving overall brain health and discusses things that can impact our clarity of thinking. We will learn a short series of tai chi movements to help challenge our brain and build memory and discuss acupressure points to stimulate brain activity.</span></p>\n\n<p><span style="color:initial">Donations encouraged but not required. MoveMentation is a nonprofit organization that values your presence and participation as an equal energy exchange.</span></p>\n
LOCATION:Bowman Library 871 Tasker Rd Stephens City\, VA 22655
UID:e.2531.28611
SEQUENCE:3
DTSTAMP:20260424T232316Z
URL:https://business.regionalchamber.biz/events/details/tai-chi-and-tips-for-brain-health-28611
END:VEVENT

END:VCALENDAR
