BEGIN:VCALENDAR
VERSION:2.0
PRODID:-//ChamberMaster//Event Calendar 2.0//EN
METHOD:PUBLISH
X-PUBLISHED-TTL:P3D
REFRESH-INTERVAL:P3D
CALSCALE:GREGORIAN
BEGIN:VEVENT
DTSTART:20190502T220000Z
DTEND:20190502T233000Z
X-MICROSOFT-CDO-ALLDAYEVENT:FALSE
SUMMARY:VCLA Author Event: Jeanne McCulloch - All Happy Families: A Memoir
DESCRIPTION:The Glass Castle meets The Nest in this stunning debut\, an intimate family memoir that gracefully brings us behind the dappled beachfront vista of privilege to reveal the inner lives of two wonderfully colorful\, unforgettable families. Impressionistic and lyrical\, at turns both witty and heartrending\, All Happy Families is McCulloch's clear-eyed account of her struggle to hear her own voice amid the noise of social mores and family dysfunction\, in a world where all that glitters on the surface is not gold\, and each unhappy family is ultimately unhappy in its own way.
X-ALT-DESC;FMTTYPE=text/html:The Glass Castle meets The Nest in this stunning debut\, an intimate family memoir that gracefully brings us behind the dappled beachfront vista of privilege to reveal the inner lives of two wonderfully colorful\, unforgettable families. Impressionistic and lyrical\, at turns both witty and heartrending\, All Happy Families is McCulloch&#39\;s clear-eyed account of her struggle to hear her own voice amid the noise of social mores and family dysfunction\, in a world where all that glitters on the surface is not gold\, and each unhappy family is ultimately unhappy in its own way.
LOCATION:Handley Regional Library 100 W. Piccadilly St. Winchester\, VA 22601
UID:e.2531.9615
SEQUENCE:3
DTSTAMP:20260421T151459Z
URL:https://business.regionalchamber.biz/events/details/vcla-author-event-jeanne-mcculloch-all-happy-families-a-memoir-9615
END:VEVENT

END:VCALENDAR
