BEGIN:VCALENDAR
VERSION:2.0
PRODID:-//ChamberMaster//Event Calendar 2.0//EN
METHOD:PUBLISH
X-PUBLISHED-TTL:P3D
REFRESH-INTERVAL:P3D
CALSCALE:GREGORIAN
BEGIN:VEVENT
DTSTART:20190510T220000Z
DTEND:20190511T020000Z
X-MICROSOFT-CDO-ALLDAYEVENT:FALSE
SUMMARY:WBG Second Friday GAME NIGHT
DESCRIPTION:2nd Friday is approaching quickly and we are ready for another Game Night! Bring your friends\, bring your kids\, bring your friends' kids! We all love hanging out with friends\, and game night is the perfect excuse for a casual\, laid-back night with folks of all ages!
X-ALT-DESC;FMTTYPE=text/html:<span style="color:rgb(102\, 102\, 102)\; font-family:raleway\,sans-serif\; font-size:14px">2nd Friday is approaching quickly and we are ready for another Game Night! Bring your friends\, bring your kids\, bring your friends&#39\; kids! We all love hanging out with friends\, and game night is the perfect excuse for a casual\, laid-back night with folks of all ages!</span>
LOCATION:7 N. Loudoun St. Winchester\, VA 22601
UID:e.2531.11524
SEQUENCE:3
DTSTAMP:20260421T151320Z
URL:https://business.regionalchamber.biz/events/details/wbg-second-friday-game-night-05-10-2019-11524
END:VEVENT

END:VCALENDAR
