BEGIN:VCALENDAR
VERSION:2.0
PRODID:-//ChamberMaster//Event Calendar 2.0//EN
METHOD:PUBLISH
X-PUBLISHED-TTL:P3D
REFRESH-INTERVAL:P3D
CALSCALE:GREGORIAN
BEGIN:VEVENT
DTSTART:20240418T170000Z
DTEND:20240418T200000Z
X-MICROSOFT-CDO-ALLDAYEVENT:FALSE
SUMMARY:Winchester Job Fair
DESCRIPTION:WINCHESTER VIRGINIA WORKS\n\nAPRIL JOB FAIR/HIRING EVENTS\n\n \n\nThursday April 18\, 2024 \n\n 1:00pm to 4:00pm\n\n329 N. Cameron St. Winchester VA  22601\n\nOn the Our Health Campus\n\n \n\nFor more information\, please contact Virginia Works\n\nPhone 540-722-3415 email Winchester@vec.virginia.gov\n\n \n\n\n\nhttps://forms.office.com/g/yb9hrdF0F5\n\n \n\nTo participate you will have to be registered on our website the Virginia Workforce Connection\n\nGo to www.vawc.virginia.gov to create your resume and to apply for the jobs!\n\n \n\n \n\n \n\nAN EQUAL OPPORTUNITY EMPLOYER/PROGRAM\n\nAuxiliary aids and services are available upon request to individuals with disabilities.  TDD: VA Relay Center 711 or 1-800-828-1120.  This workforce product was funded by a grant awarded by the US Dept. of Labor's Employment and Training Administration.  The product was created by the recipient and does not necessarily reflect the official position of the US Dept. of Labor.
X-ALT-DESC;FMTTYPE=text/html:&nbsp\;\n<div style="text-align: center\;"><strong><span style="color:black"><span style="font-family:times new roman\,serif"><span style="font-size:14.0pt">WINCHESTER VIRGINIA WORKS</span></span></span></strong><br />\n<strong><span style="color:black"><span style="font-family:times new roman\,serif"><span style="font-size:14.0pt">APRIL JOB FAIR/HIRING EVENTS</span></span></span></strong><br />\n&nbsp\;<br />\n<strong><span style="color:black"><span style="font-size:20.0pt">Thursday April 18\, 2024 </span></span></strong><br />\n<strong><span style="color:black"><span style="font-size:18.0pt">&nbsp\;1:00pm to 4:00pm</span></span></strong><br />\n<strong><span style="color:black"><span style="font-size:14.0pt">329 N. Cameron St. Winchester VA&nbsp\; 22601</span></span></strong><br />\n<strong><span style="color:black"><span style="font-size:14.0pt">On the Our Health Campus</span></span></strong><br />\n&nbsp\;<br />\n<span style="color:black"><span style="font-size:16.0pt">For more information\, please contact Virginia Works</span></span><br />\n<span style="color:black"><span style="font-size:16.0pt">Phone 540-722-3415 </span></span><a href="mailto:email%E2%80%94Winchester@vec.virginia.gov"><span style="font-size:16.0pt">email&mdash\;Winchester@vec.virginia.gov</span></a><br />\n&nbsp\;<br />\n<br />\n<a href="https://forms.office.com/g/yb9hrdF0F5">https://forms.office.com/g/yb9hrdF0F5</a><br />\n&nbsp\;<br />\n<span style="color:black"><span style="font-family:times new roman\,serif"><span style="font-size:12.0pt">To participate you will have to be registered on our website </span></span></span><span style="color:black"><a href="http://www.vawc.virginia.gov/"><span style="color:black"><span style="font-family:times new roman\,serif"><span style="font-size:12.0pt">the</span></span></span></a></span><span style="color:black"><span style="font-family:times new roman\,serif"><span style="font-size:12.0pt"> Virginia Workforce Connection</span></span></span><br />\n<strong><span style="color:black"><span style="font-size:14.0pt">Go to </span></span></strong><a href="http://www.vawc.virginia.gov/"><strong><span style="color:#085296"><span style="font-size:14.0pt">www.vawc.virginia.gov</span></span></strong></a><strong><span style="color:black"><span style="font-size:14.0pt"> to create your resume and to apply for the jobs!</span></span></strong><br />\n&nbsp\;<br />\n&nbsp\;<br />\n&nbsp\;<br />\n<span style="font-size:10.0pt">AN EQUAL OPPORTUNITY EMPLOYER/PROGRAM</span><br />\n<span style="font-size:10.0pt">Auxiliary aids and services are available upon request to individuals with disabilities.&nbsp\; TDD: VA Relay Center 711 or 1-800-828-1120.&nbsp\; This workforce product was funded by a grant awarded by the US Dept. of Labor&rsquo\;s Employment and Training Administration.&nbsp\; The product was created by the recipient and does not necessarily reflect the official position of the US Dept. of Labor.</span></div>\n
LOCATION:329 N Cameron St Winchester VA 22601
UID:e.2531.21411
SEQUENCE:3
DTSTAMP:20260425T165333Z
URL:https://business.regionalchamber.biz/events/details/winchester-job-fair-04-18-2024-21411
END:VEVENT

END:VCALENDAR
