BEGIN:VCALENDAR
VERSION:2.0
PRODID:-//ChamberMaster//Event Calendar 2.0//EN
METHOD:PUBLISH
X-PUBLISHED-TTL:P3D
REFRESH-INTERVAL:P3D
CALSCALE:GREGORIAN
BEGIN:VEVENT
DTSTART:20260526T220000Z
DTEND:20260527T000000Z
X-MICROSOFT-CDO-ALLDAYEVENT:FALSE
SUMMARY:Your Night to Shine Dance
DESCRIPTION:Your Night to Shine Dance\n\nPresented by Shenandoah Valley Financial Services\n\nStep into an unforgettable evening created for special education students in grades 6 and up from Frederick & Clarke Counties\, Winchester City\, and the homeschool community.\n\nYour Night to Shine Dance is a joyful celebration filled with music\, dancing\, laughter\, and meaningful memories. Guests are encouraged to wear whatever makes them feel their best casual\, dressy\, or full glam and enjoy a welcoming space designed to celebrate confidence\, friendship\, and fun.\n\nThis is a night dedicated to shining bright\, building connections\, and creating lasting memories together.
X-ALT-DESC;FMTTYPE=text/html:<div>\n<h2><strong>Your Night to Shine Dance</strong></h2>\n\n<h4>Presented by Shenandoah Valley Financial Services</h4>\n\n<p>Step into an unforgettable evening created for special education students in grades 6 and up from Frederick &amp\; Clarke Counties\, Winchester City\, and the homeschool community.</p>\n\n<p>Your Night to Shine Dance is a joyful celebration filled with music\, dancing\, laughter\, and meaningful memories. Guests are encouraged to wear whatever makes them feel their best&mdash\;casual\, dressy\, or full glam&mdash\;and enjoy a welcoming space designed to celebrate confidence\, friendship\, and fun.</p>\n\n<p>This is a night dedicated to shining bright\, building connections\, and creating lasting memories together.</p>\n</div>\n
LOCATION:George Washington Hotel Ballroom
UID:e.2531.28606
SEQUENCE:3
DTSTAMP:20260422T152358Z
URL:https://business.regionalchamber.biz/events/details/your-night-to-shine-dance-28606
END:VEVENT

END:VCALENDAR
