BEGIN:VCALENDAR
VERSION:2.0
PRODID:-//ChamberMaster//Event Calendar 2.0//EN
METHOD:PUBLISH
X-PUBLISHED-TTL:P3D
REFRESH-INTERVAL:P3D
CALSCALE:GREGORIAN
BEGIN:VEVENT
DTSTART:20260508T210000Z
DTEND:20260509T000000Z
X-MICROSOFT-CDO-ALLDAYEVENT:FALSE
SUMMARY:Youth Trout Derby | presented by Small Solutions
DESCRIPTION:Make sure to mark your calendars for the Youth Trout Derby at Clearbrook Park on May 8th\, 5-8pm!\n\nThis fantastic and FREE fishing event is tailored for young anglers (ages 4-14).\n\n \n\nConnect with nature\, sharpen fishing skills\, and embrace the outdoors. Prizes\, giveaways\, and a conservation focus make it an unforgettable experience for the next generation of anglers.
X-ALT-DESC;FMTTYPE=text/html:<div><span style="font-size:14px">Make sure to mark your calendars for the Youth Trout Derby at Clearbrook Park on May 8th\, 5-8pm!</span></div>\n\n<div><span style="font-size:14px">This fantastic and FREE fishing event is tailored for young anglers (ages 4-14).</span><br />\n&nbsp\;</div>\n\n<div><span style="font-size:14px">Connect with nature\, sharpen fishing skills\, and embrace the outdoors. Prizes\, giveaways\, and a conservation focus make it an unforgettable experience for the next generation of anglers.</span></div>\n
LOCATION:Clearbrook Park
UID:e.2531.28349
SEQUENCE:3
DTSTAMP:20260426T040410Z
URL:https://business.regionalchamber.biz/events/details/youth-trout-derby-05-08-2026-28349
END:VEVENT

END:VCALENDAR
